BEGIN:VCALENDAR
VERSION:2.0
CALSCALE:GREGORIAN
PRODID:-//Diputació de Barcelona//DibaCMS//EN
BEGIN:VEVENT
UID:57305
DTSTAMP:20260421T045915
DTSTART:20240208T170000
DTEND:20240208T170000
SUMMARY:Hora del conte - Contestoltes!
LOCATION:
METHOD:PUBLISH
X-WR-CALNAME:info@llinarsdelvalles.cat
X-WR-TIMEZONE:Europe/Madrid
DESCRIPTION:La sessió de contes més esborrajada de l'any aquest dijous, 8 de febrer, a les 17 h.

URI:https://www.llinarsdelvalles.cat/actualitat/agenda/hora-del-conte-contestoltes.html
CLASS:PUBLIC
END:VEVENT
END:VCALENDAR
