BEGIN:VCALENDAR
VERSION:2.0
CALSCALE:GREGORIAN
PRODID:-//Diputació de Barcelona//DibaCMS//EN
BEGIN:VEVENT
UID:57307
DTSTAMP:20260421T043219
DTSTART:20240227T173000
DTEND:20240227T173000
SUMMARY:Story Time - Fox's Socks
LOCATION:Av. Pau Casals, 26 08450 Llinars del Vallès
METHOD:PUBLISH
X-WR-CALNAME:info@llinarsdelvalles.cat
X-WR-TIMEZONE:Europe/Madrid
DESCRIPTION:A càrrec de Cambridge School.

URI:https://www.llinarsdelvalles.cat/actualitat/agenda/story-time-foxs-socks.html
CLASS:PUBLIC
END:VEVENT
END:VCALENDAR
