BEGIN:VCALENDAR
VERSION:2.0
CALSCALE:GREGORIAN
PRODID:-//Diputació de Barcelona//DibaCMS//EN
BEGIN:VEVENT
UID:57316
DTSTAMP:20260421T013516
DTSTART:20240115T000000
DTEND:20240214T000000
SUMMARY:Exposició de la Marité Linares
LOCATION:C/ Ramon i Cajal - (cantonada Av. Granollers) 08450 Llinars del Vallés
METHOD:PUBLISH
X-WR-CALNAME:info@llinarsdelvalles.cat
X-WR-TIMEZONE:Europe/Madrid
DESCRIPTION:Organitza: Associació de Gent Gran i Pensionista

URI:https://www.llinarsdelvalles.cat/actualitat/agenda/exposicio-de-la-marite-linares.html
CLASS:PUBLIC
END:VEVENT
END:VCALENDAR
