BEGIN:VCALENDAR
VERSION:2.0
CALSCALE:GREGORIAN
PRODID:-//Diputació de Barcelona//DibaCMS//EN
BEGIN:VEVENT
UID:57340
DTSTAMP:20260421T045714
DTSTART:20240303T120000
DTEND:20240303T120000
SUMMARY:'Vols jugar a Anno Domini?'
LOCATION:C/ Frederic Marés (antic CAP) 08450 Llinars del Vallès
METHOD:PUBLISH
X-WR-CALNAME:info@llinarsdelvalles.cat
X-WR-TIMEZONE:Europe/Madrid
DESCRIPTION:Partida exhibició d’aquest joc de taula en què els participants han de competir per aconseguir seure el més a prop possible de Jesús al Sant sopar. Activitat emmarcada en l'exposició 'La Passió, paraula i emoció'

URI:https://www.llinarsdelvalles.cat/actualitat/agenda/vols-jugar-a-anno-domini.html
CLASS:PUBLIC
END:VEVENT
END:VCALENDAR
