BEGIN:VCALENDAR
VERSION:2.0
CALSCALE:GREGORIAN
PRODID:-//Diputació de Barcelona//DibaCMS//EN
BEGIN:VEVENT
UID:57345
DTSTAMP:20260420T163451
DTSTART:20240313T170000
DTEND:20240313T170000
SUMMARY:Taller infantil - Bee-Bot / Tale-Bot
LOCATION:Av. Pau Casals, 26 08450 Llinars del Vallès
METHOD:PUBLISH
X-WR-CALNAME:info@llinarsdelvalles.cat
X-WR-TIMEZONE:Europe/Madrid
DESCRIPTION:A càrrec d'Edukem-nos.

URI:https://www.llinarsdelvalles.cat/actualitat/agenda/taller-infantil-bee-bot--tale-bot.html
CLASS:PUBLIC
END:VEVENT
END:VCALENDAR
