BEGIN:VCALENDAR
VERSION:2.0
CALSCALE:GREGORIAN
PRODID:-//Diputació de Barcelona//DibaCMS//EN
BEGIN:VEVENT
UID:57346
DTSTAMP:20260420T132145
DTSTART:20240315T190000
DTEND:20240315T190000
SUMMARY:Presentació km0 - Destino Sukhadhara
LOCATION:Av. Pau Casals, 26 08450 Llinars del Vallès
METHOD:PUBLISH
X-WR-CALNAME:info@llinarsdelvalles.cat
X-WR-TIMEZONE:Europe/Madrid
DESCRIPTION:A càrrec d'Edgar Castellanos, autor.

URI:https://www.llinarsdelvalles.cat/actualitat/agenda/presentacio-km0-destino-sukhadhara.html
CLASS:PUBLIC
END:VEVENT
END:VCALENDAR
