BEGIN:VCALENDAR
VERSION:2.0
CALSCALE:GREGORIAN
PRODID:-//Diputació de Barcelona//DibaCMS//EN
BEGIN:VEVENT
UID:57347
DTSTAMP:20260420T212717
DTSTART:20240320T000000
DTEND:20240414T000000
SUMMARY:Exposició joc - Faulari
LOCATION:Av. Pau Casals, 26 08450 Llinars del Vallès
METHOD:PUBLISH
X-WR-CALNAME:info@llinarsdelvalles.cat
X-WR-TIMEZONE:Europe/Madrid
DESCRIPTION:Ideada per Anna Joan i Piu Martínez.

URI:https://www.llinarsdelvalles.cat/actualitat/agenda/exposicio-joc-faulari.html
CLASS:PUBLIC
END:VEVENT
END:VCALENDAR
