BEGIN:VCALENDAR
VERSION:2.0
CALSCALE:GREGORIAN
PRODID:-//Diputació de Barcelona//DibaCMS//EN
BEGIN:VEVENT
UID:57348
DTSTAMP:20260420T144835
DTSTART:20240321T180000
DTEND:20240321T180000
SUMMARY:Taller adults - Pasta fresca amb plantes silvestres
LOCATION:Av. Pau Casals, 26 08450 Llinars del Vallès
METHOD:PUBLISH
X-WR-CALNAME:info@llinarsdelvalles.cat
X-WR-TIMEZONE:Europe/Madrid
DESCRIPTION:A càrrec d'Anna Colomer Campeny.
programa Parcs i biblioteques... naturalment!

URI:https://www.llinarsdelvalles.cat/actualitat/agenda/taller-adults-pasta-fresca-amb-plantes-silvestres.html
CLASS:PUBLIC
END:VEVENT
END:VCALENDAR
