BEGIN:VCALENDAR
VERSION:2.0
CALSCALE:GREGORIAN
PRODID:-//Diputació de Barcelona//DibaCMS//EN
BEGIN:VEVENT
UID:57349
DTSTAMP:20260420T150303
DTSTART:20240323T110000
DTEND:20240323T110000
SUMMARY:Sortida Km0 - Ermita de Sant Sebastià de Puigpedrós
LOCATION:Av. Pau Casals, 26 08450 Llinars del Vallès
METHOD:PUBLISH
X-WR-CALNAME:info@llinarsdelvalles.cat
X-WR-TIMEZONE:Europe/Madrid
DESCRIPTION:Visita guiada a l'interior de l'ermita i explicació de la seva història i reconstrucció. A càrrec de Jordi Puchol.

URI:https://www.llinarsdelvalles.cat/actualitat/agenda/sortida-km0-ermita-de-sant-sebastia-de-puigpedros.html
CLASS:PUBLIC
END:VEVENT
END:VCALENDAR
