BEGIN:VCALENDAR
VERSION:2.0
CALSCALE:GREGORIAN
PRODID:-//Diputació de Barcelona//DibaCMS//EN
BEGIN:VEVENT
UID:57352
DTSTAMP:20260421T043042
DTSTART:20240303T000000
DTEND:20240303T000000
SUMMARY:Teatre - The Party
LOCATION:Ronda Sant Antoni, 19 08450 Llinars del Vallès
METHOD:PUBLISH
X-WR-CALNAME:info@llinarsdelvalles.cat
X-WR-TIMEZONE:Europe/Madrid
DESCRIPTION:Vine a celebrar el 9è aniversari del Teatre Auditori de Llinars.

URI:https://www.llinarsdelvalles.cat/actualitat/agenda/teatre-the-party.html
CLASS:PUBLIC
END:VEVENT
END:VCALENDAR
