BEGIN:VCALENDAR
VERSION:2.0
CALSCALE:GREGORIAN
PRODID:-//Diputació de Barcelona//DibaCMS//EN
BEGIN:VEVENT
UID:57356
DTSTAMP:20260420T105302
DTSTART:20240404T000000
DTEND:20240406T000000
SUMMARY:Representació - Moments Estel·lars de la Humanitat
LOCATION:Ronda Sant Antoni, 19 08450 Llinars del Vallès
METHOD:PUBLISH
X-WR-CALNAME:info@llinarsdelvalles.cat
X-WR-TIMEZONE:Europe/Madrid
DESCRIPTION:Recorregut per diferents espais de Llinars. Punt de sortida: Teatre Auditori.

Dijous 4/4 19h, divendres 5/4 19h, dissbte 6/4 12h i 19 h.

URI:https://www.llinarsdelvalles.cat/actualitat/agenda/representacio-moments-estellars-de-la-humanitat.html
CLASS:PUBLIC
END:VEVENT
END:VCALENDAR
