BEGIN:VCALENDAR
VERSION:2.0
CALSCALE:GREGORIAN
PRODID:-//Diputació de Barcelona//DibaCMS//EN
BEGIN:VEVENT
UID:57357
DTSTAMP:20260420T143039
DTSTART:20240413T200000
DTEND:20240413T200000
SUMMARY:Teatre - Els Ocells
LOCATION:Ronda Sant Antoni, 19 08450 Llinars del Vallès
METHOD:PUBLISH
X-WR-CALNAME:info@llinarsdelvalles.cat
X-WR-TIMEZONE:Europe/Madrid
DESCRIPTION:
URI:https://www.llinarsdelvalles.cat/actualitat/agenda/teatre-els-ocells.html
CLASS:PUBLIC
END:VEVENT
END:VCALENDAR
