BEGIN:VCALENDAR
VERSION:2.0
CALSCALE:GREGORIAN
PRODID:-//Diputació de Barcelona//DibaCMS//EN
BEGIN:VEVENT
UID:57359
DTSTAMP:20260420T224536
DTSTART:20240421T190000
DTEND:20240421T190000
SUMMARY:Música - De Bach a Piazzolla
LOCATION:Ronda Sant Antoni, 19 08450 Llinars del Vallès
METHOD:PUBLISH
X-WR-CALNAME:info@llinarsdelvalles.cat
X-WR-TIMEZONE:Europe/Madrid
DESCRIPTION:Orquestra de Guitarres de Barcelona.

URI:https://www.llinarsdelvalles.cat/actualitat/agenda/musica-de-bach-a-piazzolla.html
CLASS:PUBLIC
END:VEVENT
END:VCALENDAR
