BEGIN:VCALENDAR
VERSION:2.0
CALSCALE:GREGORIAN
PRODID:-//Diputació de Barcelona//DibaCMS//EN
BEGIN:VEVENT
UID:57360
DTSTAMP:20260420T075248
DTSTART:20240427T180000
DTEND:20240427T180000
SUMMARY:Espectacle familiar de dansa i circ - Pedra de fusta
LOCATION:Ronda Sant Antoni, 19 08450 Llinars del Vallès
METHOD:PUBLISH
X-WR-CALNAME:info@llinarsdelvalles.cat
X-WR-TIMEZONE:Europe/Madrid
DESCRIPTION:Festival aTAnsa't. 

URI:https://www.llinarsdelvalles.cat/actualitat/agenda/espectacle-familiar-de-dansa-i-circ-pedra-de-fusta.html
CLASS:PUBLIC
END:VEVENT
END:VCALENDAR
