BEGIN:VCALENDAR
VERSION:2.0
CALSCALE:GREGORIAN
PRODID:-//Diputació de Barcelona//DibaCMS//EN
BEGIN:VEVENT
UID:57361
DTSTAMP:20260420T144633
DTSTART:20240427T200000
DTEND:20240427T200000
SUMMARY:Espectacle de dansa - Soy madera
LOCATION:
METHOD:PUBLISH
X-WR-CALNAME:info@llinarsdelvalles.cat
X-WR-TIMEZONE:Europe/Madrid
DESCRIPTION:Festival aTAnsa't. 

URI:https://www.llinarsdelvalles.cat/actualitat/agenda/espectacle-de-dansa-soy-madera.html
CLASS:PUBLIC
END:VEVENT
END:VCALENDAR
