BEGIN:VCALENDAR
VERSION:2.0
CALSCALE:GREGORIAN
PRODID:-//Diputació de Barcelona//DibaCMS//EN
BEGIN:VEVENT
UID:57362
DTSTAMP:20260421T011249
DTSTART:20240428T120000
DTEND:20240428T120000
SUMMARY:Espectacle de dansa - A rienda suelta
LOCATION:Ronda Sant Antoni, 19 08450 Llinars del Vallès
METHOD:PUBLISH
X-WR-CALNAME:info@llinarsdelvalles.cat
X-WR-TIMEZONE:Europe/Madrid
DESCRIPTION:Festival aTAnsa't.

URI:https://www.llinarsdelvalles.cat/actualitat/agenda/espectacle-de-dansa-a-rienda-suelta.html
CLASS:PUBLIC
END:VEVENT
END:VCALENDAR
