BEGIN:VCALENDAR
VERSION:2.0
CALSCALE:GREGORIAN
PRODID:-//Diputació de Barcelona//DibaCMS//EN
BEGIN:VEVENT
UID:57363
DTSTAMP:20260420T074807
DTSTART:20240428T180000
DTEND:20240428T180000
SUMMARY:Espectacle de dansa - La veu de les (d)ones
LOCATION:Ronda Sant Antoni, 19 08450 Llinars del Vallès
METHOD:PUBLISH
X-WR-CALNAME:info@llinarsdelvalles.cat
X-WR-TIMEZONE:Europe/Madrid
DESCRIPTION:Festival aTAnsa't.

URI:https://www.llinarsdelvalles.cat/actualitat/agenda/espectacle-de-dansa-la-veu-de-les-dones.html
CLASS:PUBLIC
END:VEVENT
END:VCALENDAR
