BEGIN:VCALENDAR
VERSION:2.0
CALSCALE:GREGORIAN
PRODID:-//Diputació de Barcelona//DibaCMS//EN
BEGIN:VEVENT
UID:57366
DTSTAMP:20260420T212337
DTSTART:20240512T120000
DTEND:20240512T120000
SUMMARY:Teatre familiar - El patufet i els seus pares
LOCATION:Ronda Sant Antoni, 19 08450 Llinars del Vallès
METHOD:PUBLISH
X-WR-CALNAME:info@llinarsdelvalles.cat
X-WR-TIMEZONE:Europe/Madrid
DESCRIPTION:
URI:https://www.llinarsdelvalles.cat/actualitat/agenda/teatre-familiar-el-patufet-i-els-seus-pares.html
CLASS:PUBLIC
END:VEVENT
END:VCALENDAR
