BEGIN:VCALENDAR
VERSION:2.0
CALSCALE:GREGORIAN
PRODID:-//Diputació de Barcelona//DibaCMS//EN
BEGIN:VEVENT
UID:57367
DTSTAMP:20260421T002022
DTSTART:20240512T190000
DTEND:20240512T190000
SUMMARY:Música clàssica - Recital de Beethoven Natura, drama i alegria
LOCATION:Ronda Sant Antoni, 19 08450 Llinars del Vallès
METHOD:PUBLISH
X-WR-CALNAME:info@llinarsdelvalles.cat
X-WR-TIMEZONE:Europe/Madrid
DESCRIPTION:
URI:https://www.llinarsdelvalles.cat/actualitat/agenda/musica-classica-recital-de-beethoven-natura-drama-i-alegria.html
CLASS:PUBLIC
END:VEVENT
END:VCALENDAR
