BEGIN:VCALENDAR
VERSION:2.0
CALSCALE:GREGORIAN
PRODID:-//Diputació de Barcelona//DibaCMS//EN
BEGIN:VEVENT
UID:57368
DTSTAMP:20260421T023330
DTSTART:20240525T190000
DTEND:20240525T210000
SUMMARY:Música - Play the Game
LOCATION:Ronda Sant Antoni, 19 08450 Llinars del Vallès
METHOD:PUBLISH
X-WR-CALNAME:info@llinarsdelvalles.cat
X-WR-TIMEZONE:Europe/Madrid
DESCRIPTION:Versions de The Queen.
Dues sessions: 25 de maig a les 19 h i a les 22 h

URI:https://www.llinarsdelvalles.cat/actualitat/agenda/musica-play-the-game.html
CLASS:PUBLIC
END:VEVENT
END:VCALENDAR
