BEGIN:VCALENDAR
VERSION:2.0
CALSCALE:GREGORIAN
PRODID:-//Diputació de Barcelona//DibaCMS//EN
BEGIN:VEVENT
UID:57369
DTSTAMP:20260420T091734
DTSTART:20240428T100000
DTEND:20240428T100000
SUMMARY:Taller de dansa la vida
LOCATION:Ronda Sant Antoni, 19 08450 Llinars del Vallès
METHOD:PUBLISH
X-WR-CALNAME:info@llinarsdelvalles.cat
X-WR-TIMEZONE:Europe/Madrid
DESCRIPTION:Festival aTAnsa't.

URI:https://www.llinarsdelvalles.cat/actualitat/agenda/taller-de-dansa-la-vida.html
CLASS:PUBLIC
END:VEVENT
END:VCALENDAR
