BEGIN:VCALENDAR
VERSION:2.0
CALSCALE:GREGORIAN
PRODID:-//Diputació de Barcelona//DibaCMS//EN
BEGIN:VEVENT
UID:57370
DTSTAMP:20260421T092021
DTSTART:20240519T100000
DTEND:20240519T120000
SUMMARY:MatildAI
LOCATION:Ronda Sant Antoni, 19 08450 Llinars del Vallès
METHOD:PUBLISH
X-WR-CALNAME:info@llinarsdelvalles.cat
X-WR-TIMEZONE:Europe/Madrid
DESCRIPTION:Dansa, música i teatre a càrrec de l'escola municipal de música, el Cor d’alumnes de 4t de Primària de l’escola Damià Mateu i l'Escola de dansa Vocacions.
Dues sessions: 19 de maig a les 10h i a les 12.30h.

URI:https://www.llinarsdelvalles.cat/actualitat/agenda/matildai.html
CLASS:PUBLIC
END:VEVENT
END:VCALENDAR
