BEGIN:VCALENDAR
VERSION:2.0
CALSCALE:GREGORIAN
PRODID:-//Diputació de Barcelona//DibaCMS//EN
BEGIN:VEVENT
UID:57371
DTSTAMP:20260420T092538
DTSTART:20240608T200000
DTEND:20240608T200000
SUMMARY:Teatre - Un marit ideal
LOCATION:Ronda Sant Antoni, 19 08450 Llinars del Vallès
METHOD:PUBLISH
X-WR-CALNAME:info@llinarsdelvalles.cat
X-WR-TIMEZONE:Europe/Madrid
DESCRIPTION:
URI:https://www.llinarsdelvalles.cat/actualitat/agenda/57371-teatre-un-marit-ideal.html
CLASS:PUBLIC
END:VEVENT
END:VCALENDAR
