BEGIN:VCALENDAR
VERSION:2.0
CALSCALE:GREGORIAN
PRODID:-//Diputació de Barcelona//DibaCMS//EN
BEGIN:VEVENT
UID:57372
DTSTAMP:20260420T175656
DTSTART:20240319T100000
DTEND:20240319T100000
SUMMARY:Biodansa amb nadons
LOCATION:C/ Ramon i Cajal - (cantonada Av. Granollers) 08450 Llinars del Vallés
METHOD:PUBLISH
X-WR-CALNAME:info@llinarsdelvalles.cat
X-WR-TIMEZONE:Europe/Madrid
DESCRIPTION:A càrrec de Judit Esparrica i Núria Moreno, de la Nova Miranda.

URI:https://www.llinarsdelvalles.cat/actualitat/agenda/biodansa-amb-nadons.html
CLASS:PUBLIC
END:VEVENT
END:VCALENDAR
