BEGIN:VCALENDAR
VERSION:2.0
CALSCALE:GREGORIAN
PRODID:-//Diputació de Barcelona//DibaCMS//EN
BEGIN:VEVENT
UID:57373
DTSTAMP:20260420T173001
DTSTART:20240504T100000
DTEND:20240504T100000
SUMMARY:Passejada suau: De Vallbona al camí Ral de Llinars del Vallès
LOCATION:
METHOD:PUBLISH
X-WR-CALNAME:info@llinarsdelvalles.cat
X-WR-TIMEZONE:Europe/Madrid
DESCRIPTION:Dintre del programa Passejades Guiades 2024 pel Parc del Montnegre i el Corredor, elaborat per l'Escola de Natura del Corredor.

URI:https://www.llinarsdelvalles.cat/actualitat/agenda/passejada-suau-de-vallbona-al-cami-ral-de-llinars-del-valles.html
CLASS:PUBLIC
END:VEVENT
END:VCALENDAR
