BEGIN:VCALENDAR
VERSION:2.0
CALSCALE:GREGORIAN
PRODID:-//Diputació de Barcelona//DibaCMS//EN
BEGIN:VEVENT
UID:57374
DTSTAMP:20260420T173213
DTSTART:20240525T100000
DTEND:20240525T100000
SUMMARY:Passejada "Torrent Molinot: els tresors de les vernedes" Dia Europeu dels Parcs
LOCATION:
METHOD:PUBLISH
X-WR-CALNAME:info@llinarsdelvalles.cat
X-WR-TIMEZONE:Europe/Madrid
DESCRIPTION:Dintre del programa Passejades Guiades 2024 pel Parc del Montnegre i el Corredor, elaborat per l'Escola de Natura del Corredor.

URI:https://www.llinarsdelvalles.cat/actualitat/agenda/passejada-torrent-molinot-els-tresors-de-les-vernedes-dia-europeu-dels-parcs.html
CLASS:PUBLIC
END:VEVENT
END:VCALENDAR
