BEGIN:VCALENDAR
VERSION:2.0
CALSCALE:GREGORIAN
PRODID:-//Diputació de Barcelona//DibaCMS//EN
BEGIN:VEVENT
UID:57399
DTSTAMP:20260420T200947
DTSTART:20240414T180000
DTEND:20240414T180000
SUMMARY:Teatre - Somni d'una nit d'estiu
LOCATION:Ronda Sant Antoni, 19 08450 Llinars del Vallès
METHOD:PUBLISH
X-WR-CALNAME:info@llinarsdelvalles.cat
X-WR-TIMEZONE:Europe/Madrid
DESCRIPTION:A càrrec de Catarsi Teatre

 

URI:https://www.llinarsdelvalles.cat/actualitat/agenda/57399-teatre-somni-duna-nit-destiu.html
CLASS:PUBLIC
END:VEVENT
END:VCALENDAR
