BEGIN:VCALENDAR
VERSION:2.0
CALSCALE:GREGORIAN
PRODID:-//Diputació de Barcelona//DibaCMS//EN
BEGIN:VEVENT
UID:57401
DTSTAMP:20260420T172434
DTSTART:20240516T090000
DTEND:20240517T140000
SUMMARY:Speed Dating Professional
LOCATION:Ronda Sant Antoni, 19 08450 Llinars del Vallès
METHOD:PUBLISH
X-WR-CALNAME:info@llinarsdelvalles.cat
X-WR-TIMEZONE:Europe/Madrid
DESCRIPTION:
URI:https://www.llinarsdelvalles.cat/actualitat/agenda/57401-speed-dating-professional.html
CLASS:PUBLIC
END:VEVENT
END:VCALENDAR
