BEGIN:VCALENDAR
VERSION:2.0
CALSCALE:GREGORIAN
PRODID:-//Diputació de Barcelona//DibaCMS//EN
BEGIN:VEVENT
UID:57403
DTSTAMP:20260420T230456
DTSTART:20240420T103000
DTEND:20240420T103000
SUMMARY:Taller infantil bibliolab - Moto amb motor
LOCATION:Av. Pau Casals, 26 08450 Llinars del Vallès
METHOD:PUBLISH
X-WR-CALNAME:info@llinarsdelvalles.cat
X-WR-TIMEZONE:Europe/Madrid
DESCRIPTION:A càrrec d'El Taller.

URI:https://www.llinarsdelvalles.cat/actualitat/agenda/taller-infantil-bibliolab-moto-amb-motor.html
CLASS:PUBLIC
END:VEVENT
END:VCALENDAR
