BEGIN:VCALENDAR
VERSION:2.0
CALSCALE:GREGORIAN
PRODID:-//Diputació de Barcelona//DibaCMS//EN
BEGIN:VEVENT
UID:57408
DTSTAMP:20260420T155733
DTSTART:20240411T190000
DTEND:20240411T190000
SUMMARY:Presentació Km0 - Demuestre que está viva 
LOCATION:Av. Pau Casals, 26 08450 Llinars del Vallès
METHOD:PUBLISH
X-WR-CALNAME:info@llinarsdelvalles.cat
X-WR-TIMEZONE:Europe/Madrid
DESCRIPTION:A càrrec d'Antonio Velasco, autor i Gregori Belmonte.

URI:https://www.llinarsdelvalles.cat/actualitat/agenda/presentacio-km0-demuestre-que-esta-viva-.html
CLASS:PUBLIC
END:VEVENT
END:VCALENDAR
