BEGIN:VCALENDAR
VERSION:2.0
CALSCALE:GREGORIAN
PRODID:-//Diputació de Barcelona//DibaCMS//EN
BEGIN:VEVENT
UID:57409
DTSTAMP:20260420T122532
DTSTART:20240405T183000
DTEND:20240405T183000
SUMMARY:Presentació Km0 - El mundo de Morgana
LOCATION:Av. Pau Casals, 26 08450 Llinars del Vallès
METHOD:PUBLISH
X-WR-CALNAME:info@llinarsdelvalles.cat
X-WR-TIMEZONE:Europe/Madrid
DESCRIPTION:A càrrec de Sílvia Salcedo, autora i Aline Costa, il·lustradora.

URI:https://www.llinarsdelvalles.cat/actualitat/agenda/presentacio-km0-el-mundo-de-morgana.html
CLASS:PUBLIC
END:VEVENT
END:VCALENDAR
