BEGIN:VCALENDAR
VERSION:2.0
CALSCALE:GREGORIAN
PRODID:-//Diputació de Barcelona//DibaCMS//EN
BEGIN:VEVENT
UID:57410
DTSTAMP:20260420T172343
DTSTART:20240430T173000
DTEND:20240430T173000
SUMMARY:Story time - The elves and the shoe maker
LOCATION:Av. Pau Casals, 26 08450 Llinars del Vallès
METHOD:PUBLISH
X-WR-CALNAME:info@llinarsdelvalles.cat
X-WR-TIMEZONE:Europe/Madrid
DESCRIPTION:A càrrec de Cambridge School.

URI:https://www.llinarsdelvalles.cat/actualitat/agenda/story-time-the-elves-and-the-shoe-maker.html
CLASS:PUBLIC
END:VEVENT
END:VCALENDAR
