BEGIN:VCALENDAR
VERSION:2.0
CALSCALE:GREGORIAN
PRODID:-//Diputació de Barcelona//DibaCMS//EN
BEGIN:VEVENT
UID:57411
DTSTAMP:20260420T120926
DTSTART:20240402T000000
DTEND:20240430T000000
SUMMARY:Exposició Km0 - El Parc del Montnegre i El Corredor
LOCATION:Av. Pau Casals, 26 08450 Llinars del Vallès
METHOD:PUBLISH
X-WR-CALNAME:info@llinarsdelvalles.cat
X-WR-TIMEZONE:Europe/Madrid
DESCRIPTION:Programa Parcs i Biblioteques... naturalment!

URI:https://www.llinarsdelvalles.cat/actualitat/agenda/exposicio-km0-el-parc-del-montnegre-i-el-corredor.html
CLASS:PUBLIC
END:VEVENT
END:VCALENDAR
