BEGIN:VCALENDAR
VERSION:2.0
CALSCALE:GREGORIAN
PRODID:-//Diputació de Barcelona//DibaCMS//EN
BEGIN:VEVENT
UID:57412
DTSTAMP:20260420T092710
DTSTART:20240414T170000
DTEND:20240414T170000
SUMMARY:Sant Jordi porta la màgia al Casal 
LOCATION:C/ Ramon i Cajal - (cantonada Av. Granollers) 08450 Llinars del Vallés
METHOD:PUBLISH
X-WR-CALNAME:info@llinarsdelvalles.cat
X-WR-TIMEZONE:Europe/Madrid
DESCRIPTION:Organitza: Ass. Gent gran i Pensionista

URI:https://www.llinarsdelvalles.cat/actualitat/agenda/sant-jordi-porta-la-magia-al-casal-.html
CLASS:PUBLIC
END:VEVENT
END:VCALENDAR
