BEGIN:VCALENDAR
VERSION:2.0
CALSCALE:GREGORIAN
PRODID:-//Diputació de Barcelona//DibaCMS//EN
BEGIN:VEVENT
UID:57414
DTSTAMP:20260421T032106
DTSTART:20240325T000000
DTEND:20240430T000000
SUMMARY:Exposició CODINA
LOCATION:C/ Ramon i Cajal - (cantonada Av. Granollers) 08450 Llinars del Vallés
METHOD:PUBLISH
X-WR-CALNAME:info@llinarsdelvalles.cat
X-WR-TIMEZONE:Europe/Madrid
DESCRIPTION:Organitza: Ass. Gent Gran i Pensionista.

URI:https://www.llinarsdelvalles.cat/actualitat/agenda/exposicio-codina.html
CLASS:PUBLIC
END:VEVENT
END:VCALENDAR
