BEGIN:VCALENDAR
VERSION:2.0
CALSCALE:GREGORIAN
PRODID:-//Diputació de Barcelona//DibaCMS//EN
BEGIN:VEVENT
UID:57415
DTSTAMP:20260420T201116
DTSTART:20240406T000000
DTEND:20240406T000000
SUMMARY:Xocolatada solidària per a la investigació del Càncer infantil
LOCATION:Carrer de Frederic Marés, 52 08450 Llinars del Vallés
METHOD:PUBLISH
X-WR-CALNAME:info@llinarsdelvalles.cat
X-WR-TIMEZONE:Europe/Madrid
DESCRIPTION:Activitats lúdiques, tallers i concerts durant tota la jornada.
Organitza: AFA Damià Mateu

URI:https://www.llinarsdelvalles.cat/actualitat/agenda/xocolatada-solidaria-per-a-la-investigacio-del-cancer-infantil.html
CLASS:PUBLIC
END:VEVENT
END:VCALENDAR
