BEGIN:VCALENDAR
VERSION:2.0
CALSCALE:GREGORIAN
PRODID:-//Diputació de Barcelona//DibaCMS//EN
BEGIN:VEVENT
UID:57416
DTSTAMP:20260420T110545
DTSTART:20240406T090000
DTEND:20240406T090000
SUMMARY:Caminada saludable solidària en el marc del Dia mundial de l'activitat física
LOCATION:Carrer de Frederic Marés, 52 08450 Llinars del Vallés
METHOD:PUBLISH
X-WR-CALNAME:info@llinarsdelvalles.cat
X-WR-TIMEZONE:Europe/Madrid
DESCRIPTION:Activitat apta per a tots els nivells.

URI:https://www.llinarsdelvalles.cat/actualitat/agenda/caminada-saludable-solidaria-en-el-marc-del-dia-mundial-de-lactivitat-fisica.html
CLASS:PUBLIC
END:VEVENT
END:VCALENDAR
