BEGIN:VCALENDAR
VERSION:2.0
CALSCALE:GREGORIAN
PRODID:-//Diputació de Barcelona//DibaCMS//EN
BEGIN:VEVENT
UID:57417
DTSTAMP:20260420T110644
DTSTART:20240406T100000
DTEND:20240406T100000
SUMMARY:Taller de sexologia - Amor i plenitud
LOCATION:08450 Llinars del Vallès
METHOD:PUBLISH
X-WR-CALNAME:info@llinarsdelvalles.cat
X-WR-TIMEZONE:Europe/Madrid
DESCRIPTION:A càrrec de Laura Vera, coaching en dol amorós i ansietat.

URI:https://www.llinarsdelvalles.cat/actualitat/agenda/taller-de-sexologia-amor-i-plenitud.html
CLASS:PUBLIC
END:VEVENT
END:VCALENDAR
