BEGIN:VCALENDAR
VERSION:2.0
CALSCALE:GREGORIAN
PRODID:-//Diputació de Barcelona//DibaCMS//EN
BEGIN:VEVENT
UID:57418
DTSTAMP:20260420T092610
DTSTART:20240407T180000
DTEND:20240407T180000
SUMMARY:50è aniversari dels Gegants Vells de Llinars, Miquel i Pepeta
LOCATION:Ronda Sant Antoni, 19 08450 Llinars del Vallès
METHOD:PUBLISH
X-WR-CALNAME:info@llinarsdelvalles.cat
X-WR-TIMEZONE:Europe/Madrid
DESCRIPTION:
URI:https://www.llinarsdelvalles.cat/actualitat/agenda/50e-aniversari-dels-gegants-vells-de-llinars-miquel-i-pepeta.html
CLASS:PUBLIC
END:VEVENT
END:VCALENDAR
