BEGIN:VCALENDAR
VERSION:2.0
CALSCALE:GREGORIAN
PRODID:-//Diputació de Barcelona//DibaCMS//EN
BEGIN:VEVENT
UID:57419
DTSTAMP:20260424T102650
DTSTART:20240410T170000
DTEND:20240410T170000
SUMMARY:Acte de reconeixement als millors treballs de recerca de batxillerat de l'institut Giola
LOCATION:Ronda Sant Antoni, 19 08450 Llinars del Vallès
METHOD:PUBLISH
X-WR-CALNAME:info@llinarsdelvalles.cat
X-WR-TIMEZONE:Europe/Madrid
DESCRIPTION:
URI:https://www.llinarsdelvalles.cat/actualitat/agenda/acte-de-reconeixement-als-millors-treballs-de-recerca-de-batxillerat-de-linstitut-giola.html
CLASS:PUBLIC
END:VEVENT
END:VCALENDAR
