BEGIN:VCALENDAR
VERSION:2.0
CALSCALE:GREGORIAN
PRODID:-//Diputació de Barcelona//DibaCMS//EN
BEGIN:VEVENT
UID:57420
DTSTAMP:20260420T201054
DTSTART:20240413T090000
DTEND:20240413T200000
SUMMARY:Open de patinatge artístic
LOCATION:Av. Pau Casals, 18-20 (Àrea central) 08450 Llinars del Vallès
METHOD:PUBLISH
X-WR-CALNAME:info@llinarsdelvalles.cat
X-WR-TIMEZONE:Europe/Madrid
DESCRIPTION:Organitza: Patinatge artístic Llinars.

URI:https://www.llinarsdelvalles.cat/actualitat/agenda/open-de-patinatge-artistic.html
CLASS:PUBLIC
END:VEVENT
END:VCALENDAR
