BEGIN:VCALENDAR
VERSION:2.0
CALSCALE:GREGORIAN
PRODID:-//Diputació de Barcelona//DibaCMS//EN
BEGIN:VEVENT
UID:57421
DTSTAMP:20260420T132313
DTSTART:20240414T120000
DTEND:20240414T120000
SUMMARY:26è cicle de concerts a Sanata
LOCATION:08450 Llinars del Vallès
METHOD:PUBLISH
X-WR-CALNAME:info@llinarsdelvalles.cat
X-WR-TIMEZONE:Europe/Madrid
DESCRIPTION:Suites per a violoncel, l'herencia de Bach Música per a violoncel inspirada en les suites de Bach.

URI:https://www.llinarsdelvalles.cat/actualitat/agenda/26e-cicle-de-concerts-a-sanata.html
CLASS:PUBLIC
END:VEVENT
END:VCALENDAR
