BEGIN:VCALENDAR
VERSION:2.0
CALSCALE:GREGORIAN
PRODID:-//Diputació de Barcelona//DibaCMS//EN
BEGIN:VEVENT
UID:57422
DTSTAMP:20260420T155931
DTSTART:20240420T170000
DTEND:20240420T230000
SUMMARY:Festa de la primavera
LOCATION:08450 Llinars del Vallès
METHOD:PUBLISH
X-WR-CALNAME:info@llinarsdelvalles.cat
X-WR-TIMEZONE:Europe/Madrid
DESCRIPTION:Organitza: Av. Can Boatell

URI:https://www.llinarsdelvalles.cat/actualitat/agenda/festa-de-la-primavera.html
CLASS:PUBLIC
END:VEVENT
END:VCALENDAR
