BEGIN:VCALENDAR
VERSION:2.0
CALSCALE:GREGORIAN
PRODID:-//Diputació de Barcelona//DibaCMS//EN
BEGIN:VEVENT
UID:57423
DTSTAMP:20260420T103727
DTSTART:20240421T000000
DTEND:20240421T000000
SUMMARY:Trofeu de rítmica Julia Usón
LOCATION:Av. Pau Casals, 18-20 (Àrea central) 08450 Llinars del Vallès
METHOD:PUBLISH
X-WR-CALNAME:info@llinarsdelvalles.cat
X-WR-TIMEZONE:Europe/Madrid
DESCRIPTION:Organitza: Rítmica CEL

URI:https://www.llinarsdelvalles.cat/actualitat/agenda/trofeu-de-ritmica-julia-uson.html
CLASS:PUBLIC
END:VEVENT
END:VCALENDAR
