BEGIN:VCALENDAR
VERSION:2.0
CALSCALE:GREGORIAN
PRODID:-//Diputació de Barcelona//DibaCMS//EN
BEGIN:VEVENT
UID:57426
DTSTAMP:20260420T050602
DTSTART:20240427T210000
DTEND:20240427T210000
SUMMARY:VI Concurs de música La Llavor
LOCATION:Av. Pau Casals, 22-24 (Àrea central) 08450 Llinars del Vallès
METHOD:PUBLISH
X-WR-CALNAME:info@llinarsdelvalles.cat
X-WR-TIMEZONE:Europe/Madrid
DESCRIPTION:Concert final del concurs de música d'artistes emergents.

URI:https://www.llinarsdelvalles.cat/actualitat/agenda/vi-concurs-de-musica-la-llavor.html
CLASS:PUBLIC
END:VEVENT
END:VCALENDAR
