BEGIN:VCALENDAR
VERSION:2.0
CALSCALE:GREGORIAN
PRODID:-//Diputació de Barcelona//DibaCMS//EN
BEGIN:VEVENT
UID:57439
DTSTAMP:20260420T143003
DTSTART:20240421T170000
DTEND:20240421T170000
SUMMARY:Concert de Sant Jordi
LOCATION:C/ Ramon i Cajal - (cantonada Av. Granollers) 08450 Llinars del Vallés
METHOD:PUBLISH
X-WR-CALNAME:info@llinarsdelvalles.cat
X-WR-TIMEZONE:Europe/Madrid
DESCRIPTION:A càrrec de la Coral Turó del Vent, sota la direcció de l'Emili Fortea.

URI:https://www.llinarsdelvalles.cat/actualitat/agenda/concert-de-sant-jordi.html
CLASS:PUBLIC
END:VEVENT
END:VCALENDAR
