BEGIN:VCALENDAR
VERSION:2.0
CALSCALE:GREGORIAN
PRODID:-//Diputació de Barcelona//DibaCMS//EN
BEGIN:VEVENT
UID:57445
DTSTAMP:20260420T050726
DTSTART:20240428T170000
DTEND:20240428T170000
SUMMARY:Ball de Primavera
LOCATION:C/ Ramon i Cajal - (cantonada Av. Granollers) 08450 Llinars del Vallés
METHOD:PUBLISH
X-WR-CALNAME:info@llinarsdelvalles.cat
X-WR-TIMEZONE:Europe/Madrid
DESCRIPTION:Amb Xarop de Nit.

URI:https://www.llinarsdelvalles.cat/actualitat/agenda/57445-ball-de-primavera.html
CLASS:PUBLIC
END:VEVENT
END:VCALENDAR
