BEGIN:VCALENDAR
VERSION:2.0
CALSCALE:GREGORIAN
PRODID:-//Diputació de Barcelona//DibaCMS//EN
BEGIN:VEVENT
UID:57466
DTSTAMP:20260420T080143
DTSTART:20240505T160000
DTEND:20240505T160000
SUMMARY:XIV cursa Damià Mateu
LOCATION:08450 Llinars del Vallès
METHOD:PUBLISH
X-WR-CALNAME:info@llinarsdelvalles.cat
X-WR-TIMEZONE:Europe/Madrid
DESCRIPTION:
URI:https://www.llinarsdelvalles.cat/actualitat/agenda/xiv-cursa-damia-mateu.html
CLASS:PUBLIC
END:VEVENT
END:VCALENDAR
