BEGIN:VCALENDAR
VERSION:2.0
CALSCALE:GREGORIAN
PRODID:-//Diputació de Barcelona//DibaCMS//EN
BEGIN:VEVENT
UID:57469
DTSTAMP:20260420T235959
DTSTART:20240510T183000
DTEND:20240510T183000
SUMMARY:Xerrada "Orquestra Pau Casals"
LOCATION:Av. Pau Casals, 26 08450 Llinars del Vallès
METHOD:PUBLISH
X-WR-CALNAME:info@llinarsdelvalles.cat
X-WR-TIMEZONE:Europe/Madrid
DESCRIPTION:A càrrec de Joaquim Garrigosa.

URI:https://www.llinarsdelvalles.cat/actualitat/agenda/xerrada-orquestra-pau-casals.html
CLASS:PUBLIC
END:VEVENT
END:VCALENDAR
