BEGIN:VCALENDAR
VERSION:2.0
CALSCALE:GREGORIAN
PRODID:-//Diputació de Barcelona//DibaCMS//EN
BEGIN:VEVENT
UID:57471
DTSTAMP:20260420T200839
DTSTART:20240512T103000
DTEND:20240512T103000
SUMMARY:Trobada Gegantera
LOCATION:
METHOD:PUBLISH
X-WR-CALNAME:info@llinarsdelvalles.cat
X-WR-TIMEZONE:Europe/Madrid
DESCRIPTION:50.10.0
50è aniversari dels gegants vells, en Miquel i la Pepeta.
10è aniversari dels gegants nous, en Rimbau i la Sibil·la.
Estrena dels nous gegants romans.

URI:https://www.llinarsdelvalles.cat/actualitat/agenda/57471-trobada-gegantera.html
CLASS:PUBLIC
END:VEVENT
END:VCALENDAR
